BEGIN:VCALENDAR
VERSION:2.0
PRODID:-//ChamberMaster//Event Calendar 2.0//EN
METHOD:PUBLISH
X-PUBLISHED-TTL:P3D
REFRESH-INTERVAL:P3D
CALSCALE:GREGORIAN
BEGIN:VEVENT
DTSTART:20170128T230000Z
DTEND:20170129T010000Z
X-MICROSOFT-CDO-ALLDAYEVENT:FALSE
SUMMARY:Chinese New Year Wine Dinner
DESCRIPTION:Join us for the Year of the Rooster Chinese New Year Wine Dinner Saturday\, January 28th 6pm to 8pm Reservations Required $37.50 per guest (plus gratuity and sales tax) Includes Coursed Dinner\, Wine Pairing\, and New Year's gifts! Menu inspired by traditional Chinese New Year cuisine Appetizer Selection of Egg Rolls/Edamame/Pork Dumplings Paired with Zusa 1st course Fresh Green Salad with Ginger Dressing Paired with Villard Noir 2nd Course Shrimp Fried Rice Paired with Enotah White 3rd Course Beef and Broccoli with Noodles Paired with Brasstown Red Dessert Course Walnut Cookies Paired with Sweet Sally Call or email today for reservations. 706-379-1236\, info@cranecreekvineyards.com www.cranecreekvineyards.com All CCV wines will be available by the bottle or glass for purchase.
X-ALT-DESC;FMTTYPE=text/html:Join us for the Year of the Rooster Chinese New Year Wine Dinner Saturday\, January 28th 6pm to 8pm Reservations Required $37.50 per guest (plus gratuity and sales tax) Includes Coursed Dinner\, Wine Pairing\, and New Year&#39\;s gifts! Menu inspired by traditional Chinese New Year cuisine Appetizer Selection of Egg Rolls/Edamame/Pork Dumplings Paired with Zusa 1st course Fresh Green Salad with Ginger Dressing Paired with Villard Noir 2nd Course Shrimp Fried Rice Paired with Enotah White 3rd Course Beef and Broccoli with Noodles Paired with Brasstown Red Dessert Course Walnut Cookies Paired with Sweet Sally Call or email today for reservations. 706-379-1236\, info@cranecreekvineyards.com www.cranecreekvineyards.com All CCV wines will be available by the bottle or glass for purchase.
LOCATION:Crane Creek Vineyards\, Young Harris\, Georgia
UID:e.256.62220
SEQUENCE:3
DTSTAMP:20260420T074851Z
URL:https://members.visitblairsvillega.com/events/details/chinese-new-year-wine-dinner-62220
END:VEVENT

END:VCALENDAR
