BEGIN:VCALENDAR
VERSION:2.0
PRODID:-//ChamberMaster//Event Calendar 2.0//EN
METHOD:PUBLISH
X-PUBLISHED-TTL:P3D
REFRESH-INTERVAL:P3D
CALSCALE:GREGORIAN
BEGIN:VEVENT
DTSTART:20160521T233000Z
DTEND:20160522T013000Z
X-MICROSOFT-CDO-ALLDAYEVENT:FALSE
SUMMARY:Chonda Pierce
DESCRIPTION:Date: May 21\, 2016 Show Time: 7:30pm Ticket Prices: $20\, $25 Armed with an abundance of unpretentious Southern charm and laser sharp wit\, Chonda Pierce has been entertaining audiences from coast to coast for more than a decade. An in-demand stand up comic\, television hostess and author\, Pierce has parlayed her gift for storytelling into a multi-faceted career. Pierce has authored eight books with most recent being\, Laughing In the Dark and has ranked among Pollstar's top-selling live performers. She's a frequent guest on the famed Grand Ole Opry and has appeared on Life Today\, The Wanda Sykes Show\, The Mike Huckabee Show\, as well as ABC's popular talk show\, the View. Her comedy is regularly featured on XM and Sirius satellite radio.
X-ALT-DESC;FMTTYPE=text/html:Date: May 21\, 2016 Show Time: 7:30pm Ticket Prices: $20\, $25 Armed with an abundance of unpretentious Southern charm and laser sharp wit\, Chonda Pierce has been entertaining audiences from coast to coast for more than a decade. An in-demand stand up comic\, television hostess and author\, Pierce has parlayed her gift for storytelling into a multi-faceted career. Pierce has authored eight books with most recent being\, Laughing In the Dark and has ranked among Pollstar&#39\;s top-selling live performers. She&#39\;s a frequent guest on the famed Grand Ole Opry and has appeared on Life Today\, The Wanda Sykes Show\, The Mike Huckabee Show\, as well as ABC&#39\;s popular talk show\, the View. Her comedy is regularly featured on XM and Sirius satellite radio.
LOCATION:Smoky Mountain Center for the Performing Arts 1028 Georgia Road Franklin\, NC 28734
UID:e.256.48264
SEQUENCE:3
DTSTAMP:20260420T222401Z
URL:https://members.visitblairsvillega.com/events/details/chonda-pierce-05-21-2016-48264
END:VEVENT

END:VCALENDAR
