BEGIN:VCALENDAR
VERSION:2.0
PRODID:-//ChamberMaster//Event Calendar 2.0//EN
METHOD:PUBLISH
X-PUBLISHED-TTL:P3D
REFRESH-INTERVAL:P3D
CALSCALE:GREGORIAN
BEGIN:VEVENT
DTSTART:20140808T233000Z
DTEND:20140809T020000Z
X-MICROSOFT-CDO-ALLDAYEVENT:FALSE
SUMMARY:Chris Tomlin
DESCRIPTION:Artist Detail: Even at a young age\, Chris Tomlin felt a stirring as God called him to serve through music. I just kept sensing that God had given me a gift for this\, he says. I remember I got on my knees under a tree at a summer camp as an 8th grader and I said God whatever you want for the rest of my life\, I want to serve you and follow you and I want to live for you. I didn't know if I'd be a songwriter. I didn't know if I'd be a musician\, but when I started playing the music and seeing people respond the way they did I just really felt that this was really what God wanted me to do. It was just so encouraging to see people respond to the music. It was as if they forgot that there was even someone on stage. People were really connecting. That was my heart. I kept seeing that over and over and that continues even to this day. This is really happening. We're really connecting people to God with music and that's what is so exciting to me. That's so beautiful to me. It's so encouraging every time.
X-ALT-DESC;FMTTYPE=text/html:Artist Detail: Even at a young age\, Chris Tomlin felt a stirring as God called him to serve through music. I just kept sensing that God had given me a gift for this\, he says. I remember I got on my knees under a tree at a summer camp as an 8th grader and I said God whatever you want for the rest of my life\, I want to serve you and follow you and I want to live for you. I didn&#39\;t know if I&#39\;d be a songwriter. I didn&#39\;t know if I&#39\;d be a musician\, but when I started playing the music and seeing people respond the way they did I just really felt that this was really what God wanted me to do. It was just so encouraging to see people respond to the music. It was as if they forgot that there was even someone on stage. People were really connecting. That was my heart. I kept seeing that over and over and that continues even to this day. This is really happening. We&#39\;re really connecting people to God with music and that&#39\;s what is so exciting to me. That&#39\;s so beautiful to me. It&#39\;s so encouraging every time.
LOCATION:The Smoky Mountain Center for the Performing Arts 1028 Georgia Road Franklin\, NC 28734
UID:e.256.25453
SEQUENCE:3
DTSTAMP:20260424T073544Z
URL:https://members.visitblairsvillega.com/events/details/chris-tomlin-08-08-2014-25453
END:VEVENT

END:VCALENDAR
