BEGIN:VCALENDAR
VERSION:2.0
PRODID:-//ChamberMaster//Event Calendar 2.0//EN
METHOD:PUBLISH
X-PUBLISHED-TTL:P3D
REFRESH-INTERVAL:P3D
CALSCALE:GREGORIAN
BEGIN:VEVENT
DTSTART:20141016T230000Z
DTEND:20141016T230000Z
X-MICROSOFT-CDO-ALLDAYEVENT:FALSE
SUMMARY:Christian Motorcyclists Association Meeting
DESCRIPTION:CMA meeting\, Christian Motorcyclists Association\, meets the third Thursday of the month at 7 PM at Papa's Pizza in Clermont. If people want to eat\, they should come at 6:30. We are a Christian motorcycle group\; while loving God is a requirement\, riding is not. We'd love to have you. Any questions\, contact Dennis at dennis.jackson@alkermes.com or Valorie val989@windstream.net.
X-ALT-DESC;FMTTYPE=text/html:CMA meeting\, Christian Motorcyclists Association\, meets the third Thursday of the month at 7 PM at Papa&#39\;s Pizza in Clermont. If people want to eat\, they should come at 6:30. We are a Christian motorcycle group\; while loving God is a requirement\, riding is not. We&#39\;d love to have you. Any questions\, contact Dennis at dennis.jackson@alkermes.com or Valorie val989@windstream.net.
LOCATION:Papa's Pizza in Clermont
UID:e.256.25399
SEQUENCE:3
DTSTAMP:20260424T061704Z
URL:https://members.visitblairsvillega.com/events/details/christian-motorcyclists-association-meeting-10-16-2014-25399
END:VEVENT

END:VCALENDAR
