BEGIN:VCALENDAR
VERSION:2.0
PRODID:-//ChamberMaster//Event Calendar 2.0//EN
METHOD:PUBLISH
X-PUBLISHED-TTL:P3D
REFRESH-INTERVAL:P3D
CALSCALE:GREGORIAN
BEGIN:VEVENT
DTSTART:20161126T160000Z
DTEND:20161126T220000Z
X-MICROSOFT-CDO-ALLDAYEVENT:FALSE
SUMMARY:Christmas at the Art Center Open House/Light Up Blue Ridge
DESCRIPTION:Bring your list and check it twice! You are sure to find something for everyone on your list in one of our many galleries. Enjoy refreshments\, artwork and good cheer as you enjoy the seasonal beauty at the Art Center. Gift Certificates are available.
X-ALT-DESC;FMTTYPE=text/html:<p><span style="font-family:adobe caslon pro bold\,serif\; font-size:12pt">Bring your list and check it twice! You are sure to find something for everyone on your list in one of our many galleries. Enjoy refreshments\, artwork and good cheer as you enjoy the seasonal beauty at the Art Center. Gift Certificates are available.</span></p>\n
LOCATION:The Art Center 420 West Main Street Blue Ridge\, GA 30513
UID:e.256.59462
SEQUENCE:3
DTSTAMP:20260420T131606Z
URL:https://members.visitblairsvillega.com/events/details/christmas-at-the-art-center-open-house-light-up-blue-ridge-59462
END:VEVENT

END:VCALENDAR
