BEGIN:VCALENDAR
VERSION:2.0
PRODID:-//ChamberMaster//Event Calendar 2.0//EN
METHOD:PUBLISH
X-PUBLISHED-TTL:P3D
REFRESH-INTERVAL:P3D
CALSCALE:GREGORIAN
BEGIN:VEVENT
DTSTART;VALUE=DATE:20141225
DTEND;VALUE=DATE:20141226
TRANSP:TRANSPARENT
X-MICROSOFT-CDO-ALLDAYEVENT:TRUE
SUMMARY:Christmas at Waffle House
DESCRIPTION:Friends don't let friends eat pancakes. Join Waffle House on Christmas Day for Good Food Fast! Don't let your holiday pass without capping\, diceing\, covering\, scattering\, or smothering our famous hashbrowns.
X-ALT-DESC;FMTTYPE=text/html:Friends don&#39\;t let friends eat pancakes. Join Waffle House&nbsp\;on Christmas Day for Good Food Fast! Don&#39\;t let your holiday pass without capping\, diceing\, covering\, scattering\, or smothering our famous hashbrowns. 
LOCATION:Blairsville\, GA
UID:e.256.28096
SEQUENCE:3
DTSTAMP:20260424T033506Z
URL:https://members.visitblairsvillega.com/events/details/christmas-at-waffle-house-12-25-2014-28096
END:VEVENT

END:VCALENDAR
