BEGIN:VCALENDAR
VERSION:2.0
PRODID:-//ChamberMaster//Event Calendar 2.0//EN
METHOD:PUBLISH
X-PUBLISHED-TTL:P3D
REFRESH-INTERVAL:P3D
CALSCALE:GREGORIAN
BEGIN:VEVENT
DTSTART:20151220T220000Z
DTEND:20151220T230000Z
X-MICROSOFT-CDO-ALLDAYEVENT:FALSE
SUMMARY:Christmas Cantata
DESCRIPTION:Shady Grove United Methodist Church first Christmas Cantata
X-ALT-DESC;FMTTYPE=text/html:Shady Grove United Methodist Church first Christmas Cantata
LOCATION:1604 Owltown Road Blairsville\, Ga. 30514
UID:e.256.45153
SEQUENCE:3
DTSTAMP:20260421T073930Z
URL:https://members.visitblairsvillega.com/events/details/christmas-cantata-12-20-2015-45153
END:VEVENT

END:VCALENDAR
