BEGIN:VCALENDAR
VERSION:2.0
PRODID:-//ChamberMaster//Event Calendar 2.0//EN
METHOD:PUBLISH
X-PUBLISHED-TTL:P3D
REFRESH-INTERVAL:P3D
CALSCALE:GREGORIAN
BEGIN:VEVENT
DTSTART:20131216T223000Z
DTEND:20131217T003000Z
X-MICROSOFT-CDO-ALLDAYEVENT:FALSE
SUMMARY:Christmas Celebration with Congressman Collins
DESCRIPTION:Congressman Doug Collins invites the people in the 9th District to a Christmas Celebration on December 16th at Babyland General Hospital in Cleveland GA. We ask that you bring an unwrapped gift to support Toys for Tots.
X-ALT-DESC;FMTTYPE=text/html:<div style="color: gray\;">\n	<span style="color: black\; font-family: &quot\;Arial&quot\;\,&quot\;sans-serif&quot\;\; font-size: 10pt\; mso-fareast-language: EN-US\; mso-fareast-font-family: Calibri\; mso-ansi-language: EN-US\; mso-bidi-language: AR-SA\; mso-fareast-theme-font: minor-latin\;">Congressman Doug Collins invites the people in the 9th District to a Christmas Celebration on December 16th at Babyland General Hospital in Cleveland GA. We ask that you bring an unwrapped gift to support Toys for Tots. </span></div>\n
LOCATION:Babyland General Hospital in Cleveland GA
UID:e.256.20561
SEQUENCE:3
DTSTAMP:20260424T211633Z
URL:https://members.visitblairsvillega.com/events/details/christmas-celebration-with-congressman-collins-12-16-2013-20561
END:VEVENT

END:VCALENDAR
