BEGIN:VCALENDAR
VERSION:2.0
PRODID:-//ChamberMaster//Event Calendar 2.0//EN
METHOD:PUBLISH
X-PUBLISHED-TTL:P3D
REFRESH-INTERVAL:P3D
CALSCALE:GREGORIAN
BEGIN:VEVENT
DTSTART:20141220T233000Z
DTEND:20141221T010000Z
X-MICROSOFT-CDO-ALLDAYEVENT:FALSE
SUMMARY:Christmas Cheer at Monet's
DESCRIPTION:Join us for an evening of Christmas Songs in the pub area.
X-ALT-DESC;FMTTYPE=text/html:<span style="font-size: 22px\;"><span style="color: rgb(0\, 128\, 0)\;">Join us for an evening of Christmas Songs in the pub area. </span></span>
LOCATION:Monet's Italian Grille & Pizzeria
UID:e.256.28252
SEQUENCE:3
DTSTAMP:20260424T020248Z
URL:https://members.visitblairsvillega.com/events/details/christmas-cheer-at-monet-s-12-20-2014-28252
END:VEVENT

END:VCALENDAR
