BEGIN:VCALENDAR
VERSION:2.0
PRODID:-//ChamberMaster//Event Calendar 2.0//EN
METHOD:PUBLISH
X-PUBLISHED-TTL:P3D
REFRESH-INTERVAL:P3D
CALSCALE:GREGORIAN
BEGIN:VEVENT
DTSTART:20141206T000000Z
DTEND:20141206T010000Z
X-MICROSOFT-CDO-ALLDAYEVENT:FALSE
SUMMARY:Christmas Concert at the Old Courthouse
DESCRIPTION:North Georgia Chamber Symphony is a community orchestra performing in the North Georgia area.\n\nPerformance at 7:00pm
X-ALT-DESC;FMTTYPE=text/html:<div>\n<p style="text-align: left\;">North Georgia Chamber Symphony is a community orchestra performing in the North Georgia area.<br />\nPerformance at 7:00pm</p>\n\n<p style="text-align: left\;">&nbsp\;</p>\n</div>\n
LOCATION:Union County Historical Courthouse\, downtown on the square Blairsville
UID:e.256.4911
SEQUENCE:3
DTSTAMP:20260424T020428Z
URL:https://members.visitblairsvillega.com/events/details/christmas-concert-at-the-old-courthouse-12-05-2014-4911
END:VEVENT

END:VCALENDAR
