BEGIN:VCALENDAR
VERSION:2.0
PRODID:-//ChamberMaster//Event Calendar 2.0//EN
METHOD:PUBLISH
X-PUBLISHED-TTL:P3D
REFRESH-INTERVAL:P3D
CALSCALE:GREGORIAN
BEGIN:VEVENT
DTSTART:20151205T000000Z
DTEND:20151205T020000Z
X-MICROSOFT-CDO-ALLDAYEVENT:FALSE
SUMMARY:Christmas Concert - North Georgia Symphony
DESCRIPTION:The North Georgia Symphony will present Friday Night Christmas Concert\, Court House
X-ALT-DESC;FMTTYPE=text/html:<font size="4">The North Georgia Symphony will present Friday Night Christmas Concert\, Court House</font>
LOCATION:At the Historic Courthouse on the Square in Downtown Blairsville\, Georgia.
UID:e.256.44549
SEQUENCE:3
DTSTAMP:20260421T074435Z
URL:https://members.visitblairsvillega.com/events/details/christmas-concert-north-georgia-symphony-12-04-2015-44549
END:VEVENT

END:VCALENDAR
