BEGIN:VCALENDAR
VERSION:2.0
PRODID:-//ChamberMaster//Event Calendar 2.0//EN
METHOD:PUBLISH
X-PUBLISHED-TTL:P3D
REFRESH-INTERVAL:P3D
CALSCALE:GREGORIAN
BEGIN:VEVENT
DTSTART:20151215T233000Z
DTEND:20151216T010000Z
X-MICROSOFT-CDO-ALLDAYEVENT:FALSE
SUMMARY:Christmas Concert Union County High School Band and Chorus
DESCRIPTION:The program will feature the Choral Ensemble\, Jazz Ensemble\, Band\, and Chorus. The Band and Chorus will combine at the end for an entertaining Christmas melody\, and the concert will end with the High School Chorus combined with Chorus Alumni.
X-ALT-DESC;FMTTYPE=text/html:<span style="font-family: &quot\;Times New Roman&quot\;\,&quot\;serif&quot\;\; font-size: 12pt\; mso-fareast-font-family: &quot\;Times New Roman&quot\;\; mso-ansi-language: EN-US\; mso-fareast-language: EN-US\; mso-bidi-language: AR-SA\;"><strong><font color="#000000">The program will feature the Choral Ensemble\, Jazz Ensemble\, Band\, and Chorus. The Band and Chorus will combine at the end for an entertaining Christmas melody\, and the concert will end with the High School Chorus combined with Chorus Alumni. </font></strong></span>
LOCATION:Union County Fine Arts Center\, behind the UCHS in Blairsville\, GA
UID:e.256.45166
SEQUENCE:3
DTSTAMP:20260421T074637Z
URL:https://members.visitblairsvillega.com/events/details/christmas-concert-union-county-high-school-band-and-chorus-12-15-2015-45166
END:VEVENT

END:VCALENDAR
