BEGIN:VCALENDAR
VERSION:2.0
PRODID:-//ChamberMaster//Event Calendar 2.0//EN
METHOD:PUBLISH
X-PUBLISHED-TTL:P3D
REFRESH-INTERVAL:P3D
CALSCALE:GREGORIAN
BEGIN:VEVENT
DTSTART:20161226T000000Z
DTEND:20161226T020000Z
X-MICROSOFT-CDO-ALLDAYEVENT:FALSE
SUMMARY:Christmas Day Evening Service
DESCRIPTION:The Lighthouse Church would like to extend a warm welcome to our communities to join us for worship services on Christmas Day. Service will begin that evening at 7p.m. and will include congregational singing of beloved carols that tell the story of the Savior's birth as well as a time of reflection and thanksgiving. We hope to see you there and wish all of you a very Merry Christmas! -Pastor Kevin Garrett For the law was given by Moses\, but grace and truth came by Jesus Christ. John 1:17
X-ALT-DESC;FMTTYPE=text/html:The Lighthouse Church would like to extend a warm welcome to our communities to join us for worship services on Christmas Day. Service will begin that evening at 7p.m. and will include congregational singing of beloved carols that tell the story of the Savior&#39\;s birth as well as a time of reflection and thanksgiving. We hope to see you there and wish all of you a very Merry Christmas! -Pastor Kevin Garrett For the law was given by Moses\, but grace and truth came by Jesus Christ. John 1:17
LOCATION:The Lighthouse Church 772 John Smith Rd. East Blairsville\, Ga. 30512
UID:e.256.62164
SEQUENCE:3
DTSTAMP:20260420T093524Z
URL:https://members.visitblairsvillega.com/events/details/christmas-day-evening-service-62164
END:VEVENT

END:VCALENDAR
