BEGIN:VCALENDAR
VERSION:2.0
PRODID:-//ChamberMaster//Event Calendar 2.0//EN
METHOD:PUBLISH
X-PUBLISHED-TTL:P3D
REFRESH-INTERVAL:P3D
CALSCALE:GREGORIAN
BEGIN:VEVENT
DTSTART:20131225T153000Z
DTEND:20131225T163000Z
X-MICROSOFT-CDO-ALLDAYEVENT:FALSE
SUMMARY:Christmas Day Worship Service
DESCRIPTION:Celebrate the birth of Christ on Christmas morning. Holy Communion will be celebrated.
X-ALT-DESC;FMTTYPE=text/html:Celebrate the birth of Christ on Christmas morning. Holy Communion will be celebrated.
LOCATION:All Saints Lutheran Church\, 83 Earl Shelton Road\, Blairsville
UID:e.256.20567
SEQUENCE:3
DTSTAMP:20260424T212230Z
URL:https://members.visitblairsvillega.com/events/details/christmas-day-worship-service-12-25-2013-20567
END:VEVENT

END:VCALENDAR
