BEGIN:VCALENDAR
VERSION:2.0
PRODID:-//ChamberMaster//Event Calendar 2.0//EN
METHOD:PUBLISH
X-PUBLISHED-TTL:P3D
REFRESH-INTERVAL:P3D
CALSCALE:GREGORIAN
BEGIN:VEVENT
DTSTART:20171225T000000Z
DTEND:20171225T010000Z
X-MICROSOFT-CDO-ALLDAYEVENT:FALSE
SUMMARY:Christmas Eve Candlelight Service
DESCRIPTION:Traditional worship service on Christmas eve service to be held in church Sanctuary.
X-ALT-DESC;FMTTYPE=text/html:Traditional worship service on Christmas eve service to be held in church Sanctuary.
LOCATION:First United Methodist Church of Union County 938 HWY 515 in Blairsville\, GA across from Meeks Park
UID:e.256.77071
SEQUENCE:3
DTSTAMP:20260419T140412Z
URL:https://members.visitblairsvillega.com/events/details/christmas-eve-candlelight-service-12-24-2017-77071
END:VEVENT

END:VCALENDAR
