BEGIN:VCALENDAR
VERSION:2.0
PRODID:-//ChamberMaster//Event Calendar 2.0//EN
METHOD:PUBLISH
X-PUBLISHED-TTL:P3D
REFRESH-INTERVAL:P3D
CALSCALE:GREGORIAN
BEGIN:VEVENT
DTSTART:20161224T220000Z
DTEND:20161224T230000Z
X-MICROSOFT-CDO-ALLDAYEVENT:FALSE
SUMMARY:Christmas Eve Candlelight Service at First UMC
DESCRIPTION:All are welcome! Please come share the joy of Christ's birth with us! Loving nursery provided.
X-ALT-DESC;FMTTYPE=text/html:All are welcome! Please come share the joy of Christ&#39\;s birth with us!&nbsp\;<span style="color: rgb(51\, 51\, 51)\; font-family: &quot\;Helvetica Neue&quot\;\, Helvetica\, Arial\, sans-serif\; font-size: 12px\; background-color: rgb(255\, 255\, 255)\;">Loving nursery provided.</span>
LOCATION:938 Hwy 515 across from Meeks Park
UID:e.256.60688
SEQUENCE:3
DTSTAMP:20260420T112033Z
URL:https://members.visitblairsvillega.com/events/details/christmas-eve-candlelight-service-at-first-umc-60688
END:VEVENT

END:VCALENDAR
