BEGIN:VCALENDAR
VERSION:2.0
PRODID:-//ChamberMaster//Event Calendar 2.0//EN
METHOD:PUBLISH
X-PUBLISHED-TTL:P3D
REFRESH-INTERVAL:P3D
CALSCALE:GREGORIAN
BEGIN:VEVENT
DTSTART:20131225T000000Z
DTEND:20131225T010000Z
X-MICROSOFT-CDO-ALLDAYEVENT:FALSE
SUMMARY:Christmas Eve Worship Service
DESCRIPTION:Christmas Eve Candlelight worship service celebrating the birth of Jesus Christ. Holy Communion will be celebrated.
X-ALT-DESC;FMTTYPE=text/html:Christmas Eve Candlelight worship service celebrating the birth of Jesus Christ. Holy Communion will be celebrated. 
LOCATION:All Saints Lutheran Church 83 Earl Shelton Road\, Blairsville
UID:e.256.20566
SEQUENCE:3
DTSTAMP:20260424T194443Z
URL:https://members.visitblairsvillega.com/events/details/christmas-eve-worship-service-12-24-2013-20566
END:VEVENT

END:VCALENDAR
