BEGIN:VCALENDAR
VERSION:2.0
PRODID:-//ChamberMaster//Event Calendar 2.0//EN
METHOD:PUBLISH
X-PUBLISHED-TTL:P3D
REFRESH-INTERVAL:P3D
CALSCALE:GREGORIAN
BEGIN:VEVENT
DTSTART:20141206T150000Z
DTEND:20141206T233000Z
X-MICROSOFT-CDO-ALLDAYEVENT:FALSE
SUMMARY:Christmas Events Downtown
DESCRIPTION:10am - 4pm Butt - Mock Open House by the Society  free! \n\nFrom 10:00 AM until 4:00 PM\, there will be an Open House in the restored Butt-Mock House (1906) at the Mountain Life Museum Center. The house has been restored\, and is in the process of being furnished in "Early TVA" style\, or how a typical upper-level life-style home would have been furnished in the early 1940's\, That would be the tine when electricity came to the area.\n\nIncluded in the Open House will be the Payne Cabin (1861) which represents Union County life in the mid-1800's\, the farmstead which represents out-buildings most local farmers had in the 1800s. Currently\, it's a blacksmith shop\, corn crib\, barn\, and spring house.\n\n1pm-3pm Santa Claus * before the Parade\,  free! \n\nFrom 1:00 p.m. until 3:00 p.m. in the courtroom of The Old Courthouse\, children will line up to see Santa. Feel free to bring your own camera. We can print our photographer's photos while you wait\, and/or\, our photographer's photos will be on an on-line blog to be downloaded for free.\n\n4pm - 6pm  Christmas Parade with the arrival of Santa Claus. \n\nAt 3:45pm children are invited to open the parade by singing "Let It Go"\n\n5pm    Caroling\n\n6pm Tree Lighting \n\n\n\nComplimentary refreshments will be served. Enjoy cookies\, cakes and drinks! All of the exhibits at The Old Courthouse will be open during the day.
X-ALT-DESC;FMTTYPE=text/html:<span style="font-size: 12px\;"><span style="font-family: comic sans ms\;"><span style="color: rgb(11\, 62\, 5)\; line-height: normal\; font-style: normal\; font-variant: normal\; font-weight: bold\; font-size-adjust: none\; font-stretch: normal\;"><em>10am - 4pm Butt - Mock Open House by the Society</em></span><span style="color: rgb(255\, 0\, 0)\; line-height: normal\; font-style: normal\; font-variant: normal\; font-weight: normal\; font-size-adjust: none\; font-stretch: normal\;"> </span><span style="color: rgb(255\, 0\, 0)\; line-height: normal\; font-style: normal\; font-variant: normal\; font-weight: bold\; font-size-adjust: none\; font-stretch: normal\;"> </span></span><span style="color: rgb(255\, 0\, 0)\; line-height: normal\; font-family: Georgia\, serif\; font-style: normal\; font-variant: normal\; font-weight: bold\; font-size-adjust: none\; font-stretch: normal\;"><em>free! </em></span><br />\n<span style="color: rgb(9\, 51\, 4)\; line-height: normal\; font-family: Georgia\, serif\; font-style: normal\; font-variant: normal\; font-weight: normal\; font-size-adjust: none\; font-stretch: normal\;">From 10:00 AM until 4:00 PM\, there will be an Open House in the restored Butt-Mock House (1906) at the Mountain Life Museum Center. The house has been restored\, and is in the process of being furnished in &quot\;Early TVA&quot\; style\, or how a typical upper-level life-style home would have been furnished in the early 1940&#39\;s\, That would be the tine when electricity came to the area.<br />\nIncluded in the Open House will be the Payne Cabin (1861) which represents Union County life in the mid-1800&#39\;s\, the farmstead which represents out-buildings most local farmers had in the 1800s. Currently\, it&#39\;s a blacksmith shop\, corn crib\, barn\, and spring house.</span><br />\n<span style="font-family: comic sans ms\;"><span style="color: rgb(0\, 51\, 0)\; line-height: normal\; font-style: normal\; font-variant: normal\; font-weight: bold\; font-size-adjust: none\; font-stretch: normal\;"><em>1pm-3pm Santa Claus</em></span><span style="color: rgb(0\, 51\, 0)\; line-height: normal\; font-style: normal\; font-variant: normal\; font-weight: normal\; font-size-adjust: none\; font-stretch: normal\;"><em> </em></span></span><span style="color: rgb(255\, 0\, 0)\; line-height: normal\; font-family: Georgia\, serif\; font-style: normal\; font-variant: normal\; font-weight: normal\; font-size-adjust: none\; font-stretch: normal\;">* </span><span style="color: rgb(0\, 51\, 0)\; line-height: normal\; font-family: Georgia\, serif\; font-style: normal\; font-variant: normal\; font-weight: normal\; font-size-adjust: none\; font-stretch: normal\;">before the Parade</span><span style="color: rgb(0\, 51\, 0)\; line-height: normal\; font-family: Georgia\, serif\; font-style: normal\; font-variant: normal\; font-weight: normal\; font-size-adjust: none\; font-stretch: normal\;">\, </span><span style="color: rgb(255\, 0\, 0)\; line-height: normal\; font-family: Georgia\, serif\; font-style: normal\; font-variant: normal\; font-weight: bold\; font-size-adjust: none\; font-stretch: normal\;"><em> free!</em></span><span style="color: rgb(255\, 0\, 0)\; line-height: normal\; font-family: Georgia\, serif\; font-style: normal\; font-variant: normal\; font-weight: normal\; font-size-adjust: none\; font-stretch: normal\;"> </span><br />\n<span style="color: rgb(0\, 51\, 0)\; line-height: normal\; font-family: Georgia\, serif\; font-style: normal\; font-variant: normal\; font-weight: normal\; font-size-adjust: none\; font-stretch: normal\;">From 1:00 p.m. until 3:00 p.m. in the courtroom of The Old Courthouse\, children will line up to see Santa. Feel free to bring your own camera. We can print our photographer&#39\;s photos while you wait\, and/or\, our photographer&#39\;s photos will be on an on-line blog to be downloaded for free.</span></span><br />\n<em><font size="2"><span style="color: rgb(255\, 0\, 0)\;"><strong><span style="font-family: tahoma\;">4pm - 6pm&nbsp\; Christmas Parade&nbsp\;with the arrival of Santa Claus. </span></strong></span></font><br />\n<strong><span style="font-family: tahoma\;"><span style="font-family: comic sans ms\;"><font size="2">At 3:45pm children are invited to open the parade by singing &quot\;Let It Go&quot\;</font></span></span></strong></em><br />\n<span style="font-size: 12px\;"><span style="color: rgb(9\, 51\, 4)\; line-height: normal\; font-family: Georgia\, serif\; font-style: normal\; font-variant: normal\; font-weight: normal\; font-size-adjust: none\; font-stretch: normal\;"><span style="font-family: comic sans ms\;"><em><strong>5pm</strong></em></span></span></span><span style="font-family: comic sans ms\;"><em><strong>&nbsp\;&nbsp\;&nbsp\;&nbsp\;Caroling<br />\n6pm Tree Lighting </strong></em></span><br />\n<br />\n<span style="font-size: 12px\;"><span style="color: rgb(9\, 51\, 4)\; line-height: normal\; font-family: Georgia\, serif\; font-style: normal\; font-variant: normal\; font-weight: normal\; font-size-adjust: none\; font-stretch: normal\;">Complimentary refreshments will be served. </span><span style="color: rgb(255\, 0\, 0)\; line-height: normal\; font-family: Georgia\, serif\; font-style: normal\; font-variant: normal\; font-weight: normal\; font-size-adjust: none\; font-stretch: normal\;"><em>Enjoy cookies\, cakes and drinks! </em></span><span style="color: rgb(9\, 51\, 4)\; line-height: normal\; font-family: Georgia\, serif\; font-style: normal\; font-variant: normal\; font-weight: normal\; font-size-adjust: none\; font-stretch: normal\;">All of the exhibits at The Old Courthouse will be open during the day.</span></span><br />\n<br />\n<br />\n&nbsp\;
LOCATION:Downtown on the Square Blairsville\, GA
UID:e.256.21985
SEQUENCE:3
DTSTAMP:20260424T020202Z
URL:https://members.visitblairsvillega.com/events/details/christmas-events-downtown-12-06-2014-21985
END:VEVENT

END:VCALENDAR
