BEGIN:VCALENDAR
VERSION:2.0
PRODID:-//ChamberMaster//Event Calendar 2.0//EN
METHOD:PUBLISH
X-PUBLISHED-TTL:P3D
REFRESH-INTERVAL:P3D
CALSCALE:GREGORIAN
BEGIN:VEVENT
DTSTART:20171216T000000Z
DTEND:20171216T013000Z
X-MICROSOFT-CDO-ALLDAYEVENT:FALSE
SUMMARY:"Christmas Favorites Meet Broadway"
DESCRIPTION:Concert "Re-scheduled" to Friday\, December 15th due to winter weather. (from Dec 8th)\n\n\n\nW. Gordon Graff and Jay Robert Golden will perform a variety of "Christmas Classic" songs - December 15th at 7pm inside the Old Courthouse on the Square. This is William's 9th performance and Jay's first appearence at the Union County Historical Society. So why not come and join us for this holiday performance\; bring your friends - make new friends. Inside the museum is decorated in a Christmas spirit\; four Christmas trees and all exhibit rooms have a holiday decor. There is never an admission charge for the Friday night concerts. Voluntary contributions to the maintenance fund  are always appreciated.This is the final Friday night concert of 2017.
X-ALT-DESC;FMTTYPE=text/html:Concert &quot\;Re-scheduled&quot\; to Friday\, December 15th due to winter weather. (from Dec 8th)<br />\n<br />\nW. Gordon Graff and Jay Robert Golden will perform a variety of &quot\;Christmas Classic&quot\; songs - December 15th at 7pm inside the Old Courthouse&nbsp\;on the Square.&nbsp\;This is William&#39\;s 9th performance and Jay&#39\;s first appearence at the Union County&nbsp\;Historical Society. So why not come and join us for this holiday performance\; bring your friends - make new friends.&nbsp\;Inside the museum is decorated in a Christmas spirit\; four Christmas trees and all exhibit rooms have a holiday decor. There is never an admission charge for the Friday night concerts. Voluntary contributions to the maintenance fund&nbsp\; are always appreciated.This is the final Friday night concert of&nbsp\;2017.
LOCATION:Old Courthouse on the square\, Blairsville\, Ga. 30512
UID:e.256.77052
SEQUENCE:3
DTSTAMP:20260419T122148Z
URL:https://members.visitblairsvillega.com/events/details/christmas-favorites-meet-broadway-77052
END:VEVENT

END:VCALENDAR
