BEGIN:VCALENDAR
VERSION:2.0
PRODID:-//ChamberMaster//Event Calendar 2.0//EN
METHOD:PUBLISH
X-PUBLISHED-TTL:P3D
REFRESH-INTERVAL:P3D
CALSCALE:GREGORIAN
BEGIN:VEVENT
DTSTART:20141220T150000Z
DTEND:20141220T190000Z
X-MICROSOFT-CDO-ALLDAYEVENT:FALSE
SUMMARY:Christmas Holiday Open House
DESCRIPTION:Tri-State Model Railroaders Christmas Holiday Open House!\n\nFun For Kids Of All Ages! - Free Admission! Free Parking!\n\nVisit the historic depot and see the large "HO" scale model railroad based on the L&N Railroad's Old Line from Atlanta to Etowah\, Tennessee and the branch line through Mineral Bluff\, GA to Murphy\, NC.
X-ALT-DESC;FMTTYPE=text/html:<span style="color:black\;"><span style="font-family:helvetica\,sans-serif\;"><span style="font-size:9.5pt\;">Tri-State Model Railroaders Christmas Holiday Open House!<br />\nFun For Kids Of All Ages! - Free Admission! Free Parking!<br id="yui_3_16_0_1_1418156404557_12269" />\nVisit the historic depot and see the large &ldquo\;HO&rdquo\; scale model railroad based on the L&amp\;N Railroad&rsquo\;s Old Line from Atlanta to Etowah\, Tennessee and the branch line through Mineral Bluff\, GA to Murphy\, NC.</span></span></span><br id="yui_3_16_0_1_1418156404557_12266" />\n&nbsp\;
LOCATION:Historic L&N Depot Mineral Bluff\, GA
UID:e.256.28155
SEQUENCE:3
DTSTAMP:20260424T020245Z
URL:https://members.visitblairsvillega.com/events/details/christmas-holiday-open-house-12-20-2014-28155
END:VEVENT

END:VCALENDAR
