BEGIN:VCALENDAR
VERSION:2.0
PRODID:-//ChamberMaster//Event Calendar 2.0//EN
METHOD:PUBLISH
X-PUBLISHED-TTL:P3D
REFRESH-INTERVAL:P3D
CALSCALE:GREGORIAN
BEGIN:VEVENT
DTSTART:20161210T003000Z
DTEND:20161210T023000Z
X-MICROSOFT-CDO-ALLDAYEVENT:FALSE
SUMMARY:Christmas in My Hometown
DESCRIPTION:Celebrate the sights and sounds of the season with music and stories focused on family\, friends\, faith and tradition. Presented by the Overlook Theatre Company
X-ALT-DESC;FMTTYPE=text/html:Celebrate the sights and sounds of the season with music and stories focused on family\, friends\, faith and tradition. Presented by the Overlook Theatre Company
LOCATION:Smoky Mountain Center for the Performing Arts 1028 Georgia Road Franklin\, NC 28734
UID:e.256.49414
SEQUENCE:3
DTSTAMP:20260420T113027Z
URL:https://members.visitblairsvillega.com/events/details/christmas-in-my-hometown-12-09-2016-49414
END:VEVENT

END:VCALENDAR
