BEGIN:VCALENDAR
VERSION:2.0
PRODID:-//ChamberMaster//Event Calendar 2.0//EN
METHOD:PUBLISH
X-PUBLISHED-TTL:P3D
REFRESH-INTERVAL:P3D
CALSCALE:GREGORIAN
BEGIN:VEVENT
DTSTART:20151206T210000Z
DTEND:20151206T221500Z
X-MICROSOFT-CDO-ALLDAYEVENT:FALSE
SUMMARY:Christmas is Coming! Sing for Joy
DESCRIPTION:The Choirs of First Baptist Church of Blairsville invite you and your family to share in the anticipation and excitement of Christmas as we present "Christmas is Coming!"
X-ALT-DESC;FMTTYPE=text/html:The Choirs of First Baptist Church of Blairsville invite you and your family to share in the anticipation and excitement of Christmas as we present &quot\;Christmas is Coming!&quot\;
LOCATION:First Baptist Church of Blairsville
UID:e.256.44195
SEQUENCE:3
DTSTAMP:20260421T074152Z
URL:https://members.visitblairsvillega.com/events/details/christmas-is-coming-sing-for-joy-12-06-2015-44195
END:VEVENT

END:VCALENDAR
