BEGIN:VCALENDAR
VERSION:2.0
PRODID:-//ChamberMaster//Event Calendar 2.0//EN
METHOD:PUBLISH
X-PUBLISHED-TTL:P3D
REFRESH-INTERVAL:P3D
CALSCALE:GREGORIAN
BEGIN:VEVENT
DTSTART:20161225T150000Z
DTEND:20161226T040000Z
X-MICROSOFT-CDO-ALLDAYEVENT:FALSE
SUMMARY:Christmas Morning Service of Song at First UMC
DESCRIPTION:Join us for a Christmas morning service of song. Loving nursery provided.
X-ALT-DESC;FMTTYPE=text/html:Join us for a Christmas morning service of song. Loving nursery provided.
LOCATION:938 Hwy 515 across from Meeks Park
UID:e.256.60690
SEQUENCE:3
DTSTAMP:20260420T094719Z
URL:https://members.visitblairsvillega.com/events/details/christmas-morning-service-of-song-at-first-umc-60690
END:VEVENT

END:VCALENDAR
