BEGIN:VCALENDAR
VERSION:2.0
PRODID:-//ChamberMaster//Event Calendar 2.0//EN
METHOD:PUBLISH
X-PUBLISHED-TTL:P3D
REFRESH-INTERVAL:P3D
CALSCALE:GREGORIAN
BEGIN:VEVENT
DTSTART:20171125T150000Z
DTEND:20171125T190000Z
X-MICROSOFT-CDO-ALLDAYEVENT:FALSE
SUMMARY:Christmas Open House
DESCRIPTION:Come Shop For\n\nPink Saturday\n\nChristmas Open House\n\nGet a jump on your Christmas\n\nSaturday Nov. 25th\n\n10am - 2pm\n\nSavings You Wont Want To Miss\n\nand "IRS" Iventory Reduction Sale\n\nFun Door Prize Drawings\n\nWith 100% Satistfaction Guarantee\n\nYour Gift Will Be Perfect\n\nDirections:\n\nFrom Blairsville Old Blue RIdhe Hwy 7mi\, Right on Bunkerhill Rd - Follow Signs and Balloons\n\nFrom Hwy 515 Queens Gap Conn @ Stop Sign\, Right on Bunkerhill Rd\, Right @ 3Way Stop Sign\n\nFollow Signs and Balloons\n\nPresented By:\n\nRoberta L. Ford\n\nMary Kay Ind. Beauty Consultant\n\n(706) 897-0245\n\nwww.MaryKay.com/RFord102\n\nDiscounts and specials only available with Roberta L. Ford at the Christmas Open House event
X-ALT-DESC;FMTTYPE=text/html:<div style="text-align: center\;"><span style="font-size:22px">Come Shop For</span></div>\n\n<div style="text-align: center\;"><span style="color:#EE82EE"><em><span style="font-family:verdana"><span style="font-size:48px"><strong>Pink Saturday</strong></span></span></em></span><br />\n<span style="font-family:verdana"><span style="font-size:48px"><span style="font-size:22px"><span style="font-size:36px"><strong>Christmas Open House</strong></span><br />\nGet a jump on your Christmas<br />\n<span style="font-size:36px"><span style="color:#EE82EE"><strong><em>Saturday Nov. 25th</em></strong></span></span></span></span></span><br />\n<span style="font-size:36px"><strong><em><span style="font-family:verdana">10am - 2pm</span></em></strong><br />\n<span style="font-family:verdana"><strong>Savings You Wont Want To Miss</strong></span></span><br />\n<span style="font-size:28px"><em><span style="font-family:verdana">and &quot\;IRS&quot\;&nbsp\;Iventory Reduction Sale</span></em></span><br />\n<span style="font-size:22px"><span style="font-family:verdana">Fun Door Prize Drawings<br />\n<strong>With 100% Satistfaction Guarantee<br />\nYour Gift Will Be Perfect</strong><br />\nDirections:<br />\n<span style="font-size:12px">From Blairsville Old Blue RIdhe Hwy 7mi\, Right on Bunkerhill Rd - Follow Signs and Balloons</span></span></span><br />\n<span style="font-family:verdana\; font-size:12px">From Hwy 515 Queens Gap Conn @ Stop Sign\, Right on Bunkerhill Rd\, Right @ 3Way Stop Sign<br />\nFollow Signs and Balloons<br />\n<span style="font-size:22px"><strong>Presented By:</strong><br />\nRoberta L. Ford</span></span><br />\n<span style="font-size:22px"><span style="font-family:verdana"><span style="font-size:20px">Mary Kay Ind. Beauty Consultant</span><br />\n(706) 897-0245<br />\nwww.MaryKay.com/RFord102<br />\n<span style="font-size:10px">Discounts and specials only available with Roberta L. Ford at the Christmas Open House event</span></span></span><br />\n&nbsp\;</div>\n
LOCATION:Directions: From Blairsville Old Blue Ridge Hwy 7 miles\, Right on Bunkerhill Rd - Follow Signs and Balloons From Hwy 515 Queens Gap Conn @ Stop Sign\, Right on Bunkerhill Rd\, Right @ 3Way Stop Sign Follow Signs and Balloons
UID:e.256.77044
SEQUENCE:3
DTSTAMP:20260419T155720Z
URL:https://members.visitblairsvillega.com/events/details/christmas-open-house-11-25-2017-77044
END:VEVENT

END:VCALENDAR
