BEGIN:VCALENDAR
VERSION:2.0
PRODID:-//ChamberMaster//Event Calendar 2.0//EN
METHOD:PUBLISH
X-PUBLISHED-TTL:P3D
REFRESH-INTERVAL:P3D
CALSCALE:GREGORIAN
BEGIN:VEVENT
DTSTART:20151128T150000Z
DTEND:20151128T220000Z
X-MICROSOFT-CDO-ALLDAYEVENT:FALSE
SUMMARY:Christmas Open House
DESCRIPTION:The Reece Farm and Heritage Center is hosting Christmas Open House. There will be Christmas Music and Crafts with Farm and Literary Exhibits.  Also a Door Prize Drawing.   For more information please call 706-745-2034 or visit their website at http://reecefarm.org/
X-ALT-DESC;FMTTYPE=text/html:The Reece Farm and Heritage Center is hosting Christmas Open House.&nbsp\;There&nbsp\;will be Christmas Music and Crafts with Farm and Literary Exhibits.&nbsp\; Also a Door Prize Drawing.&nbsp\; &nbsp\;For more information please call 706-745-2034 or visit their website at <a href="http://reecefarm.org/">http://reecefarm.org/</a>
LOCATION:The Reece Farm and Heritage Center (1 mile North of Vogel State Park) 8552 Gainesville Hwy. Blairsville\, Georgia.
UID:e.256.41305
SEQUENCE:3
DTSTAMP:20260423T085128Z
URL:https://members.visitblairsvillega.com/events/details/christmas-open-house-11-28-2015-41305
END:VEVENT

END:VCALENDAR
