BEGIN:VCALENDAR
VERSION:2.0
PRODID:-//ChamberMaster//Event Calendar 2.0//EN
METHOD:PUBLISH
X-PUBLISHED-TTL:P3D
REFRESH-INTERVAL:P3D
CALSCALE:GREGORIAN
BEGIN:VEVENT
DTSTART:20151129T180000Z
DTEND:20151129T220000Z
X-MICROSOFT-CDO-ALLDAYEVENT:FALSE
SUMMARY:Christmas Open House
DESCRIPTION:The Reece Farm and Heritage Center is hosting Christmas Open House.There will be Christmas Music and Crafts as well as Farm and Literary Exhibits  For more information please call 706-745-2034 or visit their website at http://reecefarm.org/
X-ALT-DESC;FMTTYPE=text/html:The Reece Farm and Heritage Center is hosting Christmas Open House.There will be Christmas Music and Crafts as well as Farm and Literary&nbsp\;Exhibits&nbsp\; For more information please call 706-745-2034 or visit their website at <a href="http://reecefarm.org/">http://reecefarm.org/</a>
LOCATION:The Reece Farm and Heritage Center (1 mile North of Vogel State Park) 8552 Gainesville Hwy. Blairsville\, Georgia.
UID:e.256.45015
SEQUENCE:3
DTSTAMP:20260423T085205Z
URL:https://members.visitblairsvillega.com/events/details/christmas-open-house-11-29-2015-45015
END:VEVENT

END:VCALENDAR
