BEGIN:VCALENDAR
VERSION:2.0
PRODID:-//ChamberMaster//Event Calendar 2.0//EN
METHOD:PUBLISH
X-PUBLISHED-TTL:P3D
REFRESH-INTERVAL:P3D
CALSCALE:GREGORIAN
BEGIN:VEVENT
DTSTART:20171104T140000Z
DTEND:20171104T210000Z
X-MICROSOFT-CDO-ALLDAYEVENT:FALSE
SUMMARY:Christmas Open House
DESCRIPTION:A special day of celebration to start the holiday season at our beautifully decorated Mall! Whether you are planning for Thanksgiving\, Christmas\, or family events\, we have antique\, vintage\, and handcrafted items to make your decorating and entertaining unique. Many special promotions and yummy treats as well as our friendly staff will make a festive day.
X-ALT-DESC;FMTTYPE=text/html:A special day of celebration to start the holiday season at our beautifully decorated Mall! Whether you are planning for Thanksgiving\, Christmas\, or family events\, we have antique\, vintage\, and handcrafted items to make your decorating and entertaining unique. Many special promotions and yummy treats as well as our friendly staff will make a festive day.
LOCATION:Victoria's Antique Mall 3196 Hwy 515 East Blairsville\, GA
UID:e.256.76510
SEQUENCE:3
DTSTAMP:20260419T155650Z
URL:https://members.visitblairsvillega.com/events/details/christmas-open-house-76510
END:VEVENT

END:VCALENDAR
