BEGIN:VCALENDAR
VERSION:2.0
PRODID:-//ChamberMaster//Event Calendar 2.0//EN
METHOD:PUBLISH
X-PUBLISHED-TTL:P3D
REFRESH-INTERVAL:P3D
CALSCALE:GREGORIAN
BEGIN:VEVENT
DTSTART:20171209T170000Z
DTEND:20171209T220000Z
X-MICROSOFT-CDO-ALLDAYEVENT:FALSE
SUMMARY:Christmas Open House at Hightower Creek Vineyards
DESCRIPTION:Kaleb Garret will be our featured music for this special holiday event! We will have a sale on everything in the gift shop for your Christmas shopping pleasure\, hot mulled wine\, soup\, and a gift for those who come in wearing an ugly sweater!
X-ALT-DESC;FMTTYPE=text/html:<span style="color:rgb(112\, 112\, 112)\; font-family:open sans\; font-size:14px">Kaleb Garret will be our featured music for this special holiday event! We will have a sale on everything in the gift shop for your Christmas shopping pleasure\, hot mulled wine\, soup\, and a gift for those who come in wearing an ugly sweater!</span>
LOCATION:7150 Canaan Drive Hiawassee\, GA 30546
UID:e.256.77047
SEQUENCE:3
DTSTAMP:20260419T122307Z
URL:https://members.visitblairsvillega.com/events/details/christmas-open-house-at-hightower-creek-vineyards-77047
END:VEVENT

END:VCALENDAR
