BEGIN:VCALENDAR
VERSION:2.0
PRODID:-//ChamberMaster//Event Calendar 2.0//EN
METHOD:PUBLISH
X-PUBLISHED-TTL:P3D
REFRESH-INTERVAL:P3D
CALSCALE:GREGORIAN
BEGIN:VEVENT
DTSTART:20141129T150000Z
DTEND:20141129T220000Z
X-MICROSOFT-CDO-ALLDAYEVENT:FALSE
SUMMARY:Christmas Open House @ Byron Herbert Reece Farm & Heritage Center
DESCRIPTION:3rd Annual Christmas Open House\, Reece Farm & Heritage Center\n\nSaturday\, November 29\, 10:00-5:00\n\nSunday\, November 30\, 1:00-5:00\n\nA fitting climax of our open season\, the Open House invites visitors to enjoy free admission to all exhibits and a grand opportunity to celebrate the coming holiday season. As in previous years\, we will feature door prizes provided by our consignors\, a delicious array of light refreshments\, craft activities for children\, musical presentations and singing appropriate for the season\, and a gift shop offering a variety of gift options\, including discounts on selected items. Christmas decorations will abound\, including another tree decked with decorative items belonging to Reece's family.\n\nA special feature of this year's event will be an opportunity for children to be photographed in Santa's sleigh. The sleigh and its reindeer are the creation of our Reece Farm property caretaker\,Dorsey Dockery.
X-ALT-DESC;FMTTYPE=text/html:<span style="font-size: 12px\;"><strong><span style="font-family: comic sans ms\;"><span style="color: rgb(56\, 118\, 29)\;">3rd Annual Christmas Open House</span></span><span style="font-family: trebuchet ms\,sans-serif\;"><span style="color: rgb(56\, 118\, 29)\;">\, Reece Farm &amp\; Heritage Center<br />\nSaturday\, November 29\, 10:00-5:00<br />\nSunday\, November 30\, 1:00-5:00</span></span></strong></span><br />\n<span style="font-family: comic sans ms\;"><b><font color="#ff0000" size="4"><font color="#ff0000" size="4"><font color="#ff0000" size="4"><span style="font-size: 12px\;">A fitting climax of our open season\, the Open House invites </span></font></font></font></b></span><span style="font-size: 12px\;"><span style="font-family: comic sans ms\;"><b><font color="#ff0000"><font color="#ff0000"><font color="#ff0000">visitors to enjoy free admission to all exhibits and a grand </font></font></font></b></span></span><span style="font-size: 12px\;"><span style="font-family: comic sans ms\;"><b><font color="#ff0000"><font color="#ff0000"><font color="#ff0000">opportunity to celebrate the coming holiday season. As in </font></font></font></b></span></span><span style="font-size: 12px\;"><span style="font-family: comic sans ms\;"><b><font color="#ff0000"><font color="#ff0000"><font color="#ff0000">previous years\, we will feature door prizes provided by our </font></font></font></b></span></span><span style="font-size: 12px\;"><span style="font-family: comic sans ms\;"><b><font color="#ff0000"><font color="#ff0000"><font color="#ff0000">consignors\, a delicious array of light refreshments\, craft activities </font></font></font></b></span></span><span style="font-size: 12px\;"><b><font color="#ff0000" face="Californian FB\,Bold"><font color="#ff0000" face="Californian FB\,Bold"><font color="#ff0000" face="Californian FB\,Bold"><span style="font-family: comic sans ms\;">for children\, musical presentations and singing appropriate for the </span></font></font></font></b></span><span style="font-size: 12px\;"><span style="font-family: comic sans ms\;"><b><font color="#ff0000"><font color="#ff0000"><font color="#ff0000">season\, and a gift shop offering a variety of gift options\, including </font></font></font></b></span></span><span style="font-size: 12px\;"><span style="font-family: comic sans ms\;"><b><font color="#ff0000"><font color="#ff0000"><font color="#ff0000">discounts on selected items. </font></font></font></b></span></span><span style="font-size: 12px\;"><span style="font-family: comic sans ms\;"><b><font color="#ff0000"><font color="#ff0000"><font color="#ff0000">Christmas decorations will abound\, including another tree </font></font></font></b></span></span><span style="font-size: 12px\;"><span style="font-family: comic sans ms\;"><b><font color="#ff0000"><font color="#ff0000"><font color="#ff0000">decked with decorative items belonging to Reece&rsquo\;s family.</font></font></font></b></span></span>\n\n<p align="LEFT"><span style="font-size: 12px\;"><span style="font-family: comic sans ms\;"><b><font color="#ff0000"><font color="#ff0000"><font color="#ff0000">A special feature of this year&rsquo\;s event will be an opportunity for </font></font></font></b></span></span><span style="font-size: 12px\;"><span style="font-family: comic sans ms\;"><b><font color="#ff0000"><font color="#ff0000"><font color="#ff0000">children to be photographed in Santa&rsquo\;s sleigh. The sleigh and its </font></font></font></b></span></span><span style="font-size: 12px\;"><span style="font-family: comic sans ms\;"><b><font color="#ff0000"><font color="#ff0000"><font color="#ff0000">reindeer are the creation of our Reece Farm property caretaker\,</font></font></font></b></span></span><span style="font-size: 12px\;"><span style="font-family: comic sans ms\;"><b><font color="#ff0000"><font color="#ff0000"><font color="#ff0000">Dorsey Dockery.</font></font></font></b></span></span></p>\n\n<p>&nbsp\;</p>\n<br clear="all" />\n<br />\n<span style="font-family: comic sans ms\;">&nbsp\;</span>
LOCATION:Byron Herbert Reece Farm & Heritage Center 8552 Gainesville Highway Blairsville\, GA
UID:e.256.27921
SEQUENCE:3
DTSTAMP:20260424T034039Z
URL:https://members.visitblairsvillega.com/events/details/christmas-open-house-byron-herbert-reece-farm-heritage-center-11-29-2014-27921
END:VEVENT

END:VCALENDAR
