BEGIN:VCALENDAR
VERSION:2.0
PRODID:-//ChamberMaster//Event Calendar 2.0//EN
METHOD:PUBLISH
X-PUBLISHED-TTL:P3D
REFRESH-INTERVAL:P3D
CALSCALE:GREGORIAN
BEGIN:VEVENT
DTSTART:20141130T180000Z
DTEND:20141130T220000Z
X-MICROSOFT-CDO-ALLDAYEVENT:FALSE
SUMMARY:Christmas Open House @ Byron Herbert Reece Farm & Heritage Center
DESCRIPTION:Christmas Open House\, Reece Farm & Heritage Center\n\nSaturday\, November 29\, 10:00-5:00\n\nSunday\, November 30\, 1:00-5:00 \n\nFree admission to exhibits\, door prizes\, light refreshments\, gift shop bargains\, music and crafts.
X-ALT-DESC;FMTTYPE=text/html:<span style="font-family: comic sans ms\;"><span style="color: rgb(56\, 118\, 29)\;"><span style="font-size: medium\;"><strong>Christmas Open House</strong></span></span></span><span style="font-size: medium\;"><strong><span style="font-family: trebuchet ms\,sans-serif\;"><span style="color: rgb(56\, 118\, 29)\;">\, Reece Farm &amp\; Heritage Center<br />\nSaturday\, November 29\, 10:00-5:00<br />\nSunday\, November 30\, 1:00-5:00&nbsp\;<br />\nFree admission to exhibits\, door prizes\, light refreshments\, gift shop bargains\, music and crafts.</span></span></strong></span><br clear="all" />\n<br />\n&nbsp\;
LOCATION:Byron Herbert Reece Farm & Heritage Center 8552 Gainesville Highway Blairsville\, GA
UID:e.256.27923
SEQUENCE:3
DTSTAMP:20260424T045626Z
URL:https://members.visitblairsvillega.com/events/details/christmas-open-house-byron-herbert-reece-farm-heritage-center-11-30-2014-27923
END:VEVENT

END:VCALENDAR
