BEGIN:VCALENDAR
VERSION:2.0
PRODID:-//ChamberMaster//Event Calendar 2.0//EN
METHOD:PUBLISH
X-PUBLISHED-TTL:P3D
REFRESH-INTERVAL:P3D
CALSCALE:GREGORIAN
BEGIN:VEVENT
DTSTART:20161110T173000Z
DTEND:20161110T210000Z
X-MICROSOFT-CDO-ALLDAYEVENT:FALSE
SUMMARY:Christmas Open House Coosa Creek Marketing Products
DESCRIPTION:Coosa Creek Marketing Products would like to invite you to their annual Christmas Open House.  There will be Holiday Specials and deep incentives on ALL promotional products.
X-ALT-DESC;FMTTYPE=text/html:Coosa Creek Marketing Products would like to invite you to their annual Christmas Open House. &nbsp\;There will be Holiday Specials and deep incentives on ALL promotional products.
LOCATION:224 Industrial Boulevard\, Blairsville\, GA
UID:e.256.59713
SEQUENCE:3
DTSTAMP:20260420T113839Z
URL:https://members.visitblairsvillega.com/events/details/christmas-open-house-coosa-creek-marketing-products-59713
END:VEVENT

END:VCALENDAR
