BEGIN:VCALENDAR
VERSION:2.0
PRODID:-//ChamberMaster//Event Calendar 2.0//EN
METHOD:PUBLISH
X-PUBLISHED-TTL:P3D
REFRESH-INTERVAL:P3D
CALSCALE:GREGORIAN
BEGIN:VEVENT
DTSTART:20141215T000000Z
DTEND:20141215T020000Z
X-MICROSOFT-CDO-ALLDAYEVENT:FALSE
SUMMARY:Christmas Pageant
DESCRIPTION:House of Prayer Church Choir\n\nChristmas Pageant\n\nSunday & Monday December 14th & 15th\n\n7pm
X-ALT-DESC;FMTTYPE=text/html:<span style="font-size: 14px\;"><span style="font-family: comic sans ms\;">House of Prayer Church Choir<br />\nChristmas Pageant<br />\nSunday &amp\; Monday December 14th &amp\; 15th<br />\n7pm</span></span>
LOCATION:House of Prayer Interdenominational Church 1400 Pat Colwell Rd Blairsville\, GA
UID:e.256.28100
SEQUENCE:3
DTSTAMP:20260424T020024Z
URL:https://members.visitblairsvillega.com/events/details/christmas-pageant-12-14-2014-28100
END:VEVENT

END:VCALENDAR
