BEGIN:VCALENDAR
VERSION:2.0
PRODID:-//ChamberMaster//Event Calendar 2.0//EN
METHOD:PUBLISH
X-PUBLISHED-TTL:P3D
REFRESH-INTERVAL:P3D
CALSCALE:GREGORIAN
BEGIN:VEVENT
DTSTART:20141206T210000Z
DTEND:20141206T220000Z
X-MICROSOFT-CDO-ALLDAYEVENT:FALSE
SUMMARY:Christmas Parade
DESCRIPTION:Christmas Parade downtown Blairsville @ 4:00pm\n\nTheme "Frozen on the Square"
X-ALT-DESC;FMTTYPE=text/html:Christmas Parade downtown Blairsville @ 4:00pm<br />\nTheme &quot\;Frozen on the Square&quot\;
LOCATION:Downtown Blairsville
UID:e.256.27782
SEQUENCE:3
DTSTAMP:20260424T020024Z
URL:https://members.visitblairsvillega.com/events/details/christmas-parade-12-06-2014-27782
END:VEVENT

END:VCALENDAR
