BEGIN:VCALENDAR
VERSION:2.0
PRODID:-//ChamberMaster//Event Calendar 2.0//EN
METHOD:PUBLISH
X-PUBLISHED-TTL:P3D
REFRESH-INTERVAL:P3D
CALSCALE:GREGORIAN
BEGIN:VEVENT
DTSTART:20171202T210000Z
DTEND:20171203T010000Z
X-MICROSOFT-CDO-ALLDAYEVENT:FALSE
SUMMARY:Christmas Parade
DESCRIPTION:Pictures with Santa at the Historic Courthouse from 4pm-6pm.\n\nEvening Christmas Parade to start at 6pm\, tree lighting & caroling following the parade.
X-ALT-DESC;FMTTYPE=text/html:Pictures with Santa at the Historic Courthouse from 4pm-6pm.<br />\nEvening Christmas Parade to start at 6pm\, tree lighting &amp\; caroling following the parade.
LOCATION:Downtown Blairsville
UID:e.256.75985
SEQUENCE:3
DTSTAMP:20260419T120715Z
URL:https://members.visitblairsvillega.com/events/details/christmas-parade-75985
END:VEVENT

END:VCALENDAR
