BEGIN:VCALENDAR
VERSION:2.0
PRODID:-//ChamberMaster//Event Calendar 2.0//EN
METHOD:PUBLISH
X-PUBLISHED-TTL:P3D
REFRESH-INTERVAL:P3D
CALSCALE:GREGORIAN
BEGIN:VEVENT
DTSTART:20161203T210000Z
DTEND:20161203T223000Z
X-MICROSOFT-CDO-ALLDAYEVENT:FALSE
SUMMARY:Christmas Parade and Tree Lighting on the Square
DESCRIPTION:Enjoy the parade then stay for the tree lighting ceremony afterward.  Presented by the Union County Historical Society.
X-ALT-DESC;FMTTYPE=text/html:Enjoy the parade&nbsp\;then stay for the tree lighting ceremony afterward.&nbsp\; Presented by the Union County Historical Society.
LOCATION:On the square in Downtown Blairsville\, Georgia.
UID:e.256.47445
SEQUENCE:3
DTSTAMP:20260420T094016Z
URL:https://members.visitblairsvillega.com/events/details/christmas-parade-and-tree-lighting-on-the-square-12-03-2016-47445
END:VEVENT

END:VCALENDAR
