BEGIN:VCALENDAR
VERSION:2.0
PRODID:-//ChamberMaster//Event Calendar 2.0//EN
METHOD:PUBLISH
X-PUBLISHED-TTL:P3D
REFRESH-INTERVAL:P3D
CALSCALE:GREGORIAN
BEGIN:VEVENT
DTSTART:20151205T210000Z
DTEND:20151205T223000Z
X-MICROSOFT-CDO-ALLDAYEVENT:FALSE
SUMMARY:Christmas Parade and Tree Lighting on the Square
DESCRIPTION:Enjoy the parade (this year's theme: "Your Favorite Christmas Movie")\, then stay for the tree lighting ceremony afterward.  Presented by the Union County Historical Society.
X-ALT-DESC;FMTTYPE=text/html:Enjoy the parade (this year&#39\;s theme: &quot\;Your Favorite Christmas Movie&quot\;)\, then stay for the tree lighting ceremony afterward.&nbsp\; Presented by the Union County Historical Society.
LOCATION:On the square in Downtown Blairsville\, Georgia.
UID:e.256.45113
SEQUENCE:3
DTSTAMP:20260421T074152Z
URL:https://members.visitblairsvillega.com/events/details/christmas-parade-and-tree-lighting-on-the-square-12-05-2015-45113
END:VEVENT

END:VCALENDAR
