BEGIN:VCALENDAR
VERSION:2.0
PRODID:-//ChamberMaster//Event Calendar 2.0//EN
METHOD:PUBLISH
X-PUBLISHED-TTL:P3D
REFRESH-INTERVAL:P3D
CALSCALE:GREGORIAN
BEGIN:VEVENT
DTSTART:20141213T180000Z
DTEND:20141213T200000Z
X-MICROSOFT-CDO-ALLDAYEVENT:FALSE
SUMMARY:Christmas Party
DESCRIPTION:December 13 from 1-3 p.m.\, children can enjoy their very own Christmas party in the Keith House Community Room. Santa Claus will make a special appearance\, and will listen to good girls' and boys' Christmas wish lists. Kids will also enjoy music\, dancing\, games\, and refreshments. At 8 p.m. that evening\, Holiday Contra Dance will welcome couples and singles of all experience levels\, including beginners. Admission is free. Listen to local musicians\, bring refreshments to share\, and catch the holiday spirit. For further information\, see the complete holiday event schedule on the school's website at www.folkschool.org or call 828-837-2775.
X-ALT-DESC;FMTTYPE=text/html:December 13 from <strong>1-3 p.m.\, </strong>children can enjoy their very own Christmas party in the Keith House Community Room. Santa Claus will make a special appearance\, and will listen to good girls&#39\; and boys&#39\; Christmas wish lists. Kids will also enjoy music\, dancing\, games\, and refreshments. At <strong>8 p.m</strong>. that evening\, Holiday Contra Dance will welcome couples and singles of all experience levels\, including beginners. Admission is free. Listen to local musicians\, bring refreshments to share\, and catch the holiday spirit. For further information\, see the complete holiday event schedule on the school&#39\;s website at www.folkschool.org or call 828-837-2775.
LOCATION:John C Campbell Folk School Keith House Community Room Brasstown\, NC
UID:e.256.28027
SEQUENCE:3
DTSTAMP:20260424T020202Z
URL:https://members.visitblairsvillega.com/events/details/christmas-party-12-13-2014-28027
END:VEVENT

END:VCALENDAR
