BEGIN:VCALENDAR
VERSION:2.0
PRODID:-//ChamberMaster//Event Calendar 2.0//EN
METHOD:PUBLISH
X-PUBLISHED-TTL:P3D
REFRESH-INTERVAL:P3D
CALSCALE:GREGORIAN
BEGIN:VEVENT
DTSTART:20141208T150000Z
DTEND:20141208T210000Z
X-MICROSOFT-CDO-ALLDAYEVENT:FALSE
SUMMARY:Christmas Shopping at Reece Farm and Heritage Center
DESCRIPTION:G I F T   S H O P   O P E N I N G FOR  C H R I S T M A S   S H O P P I N G\n\nB o o k s\,  CDs\,  DVDs\,  L o c a l   C r a f t s\, C l o t h i n g  I t e m s  and \n\nM u c h   M o r e
X-ALT-DESC;FMTTYPE=text/html:<span style="font-family:times new roman\;"><span style="font-size: 12px\;"><span style="color: black\;">G I F T&nbsp\;&nbsp\; S H O P&nbsp\;&nbsp\; O P E N I N G</span> <span style="color: black\;">FOR</span>&nbsp\; <span style="color: rgb(192\, 0\, 0)\;">C H R I S T M A S&nbsp\;&nbsp\; S H O P P I N G</span></span></span><br />\n<span style="font-size: 12px\;"><span style="color: rgb(132\, 60\, 12)\;">B o o k s\,&nbsp\; CDs\, &nbsp\;DVDs\, &nbsp\;L o c a l&nbsp\;&nbsp\; C r a f t s\,</span> <span style="color: rgb(132\, 60\, 12)\;">C l o t h i n g&nbsp\; I t e m s&nbsp\; and&nbsp\;<br />\nM u c h&nbsp\;&nbsp\; M o r e</span></span><br />\n<br />\n<br />\n&nbsp\;
LOCATION:REECE FARM AND HERITAGE CENTER 1 mile north of Vogel State Park U.S. Highway 129
UID:e.256.28098
SEQUENCE:3
DTSTAMP:20260424T034228Z
URL:https://members.visitblairsvillega.com/events/details/christmas-shopping-at-reece-farm-and-heritage-center-12-08-2014-28098
END:VEVENT

END:VCALENDAR
