BEGIN:VCALENDAR
VERSION:2.0
PRODID:-//ChamberMaster//Event Calendar 2.0//EN
METHOD:PUBLISH
X-PUBLISHED-TTL:P3D
REFRESH-INTERVAL:P3D
CALSCALE:GREGORIAN
BEGIN:VEVENT
DTSTART:20161027T220000Z
DTEND:20161028T010000Z
X-MICROSOFT-CDO-ALLDAYEVENT:FALSE
SUMMARY:Christmas Swag Making Class
DESCRIPTION:Learn a variety of techniques to make decorative holiday swags and make your very own Christmas swag to take home.  Enjoy a fun evening along with instructors Chris Grimes and Shirley Alley from Making Memories in Clarkesville.  All materials provided with registration fee.
X-ALT-DESC;FMTTYPE=text/html:Learn a variety of techniques to make decorative holiday swags and make your very own Christmas swag to take home. &nbsp\;Enjoy a fun evening along with instructors Chris Grimes and Shirley Alley from Making Memories in Clarkesville. &nbsp\;All materials provided with registration fee.
LOCATION:North Georgia Technical College Clarkesville Campus\, Visual Tech Building
UID:e.256.59651
SEQUENCE:3
DTSTAMP:20260420T144124Z
URL:https://members.visitblairsvillega.com/events/details/christmas-swag-making-class-59651
END:VEVENT

END:VCALENDAR
