BEGIN:VCALENDAR
VERSION:2.0
PRODID:-//ChamberMaster//Event Calendar 2.0//EN
METHOD:PUBLISH
X-PUBLISHED-TTL:P3D
REFRESH-INTERVAL:P3D
CALSCALE:GREGORIAN
BEGIN:VEVENT
DTSTART:20151212T210000Z
DTEND:20151213T000000Z
X-MICROSOFT-CDO-ALLDAYEVENT:FALSE
SUMMARY:Christmas Tree Lighting at Vogel State Park
DESCRIPTION:Join us for a tree lighting\, caroling\, hayrides\, Santa Clause visit\, bonfires\, For the "Gift Toy Drive" sponsored by the Union County Sheriff's Department\, bring an unwrapped gift for kids of 0 - 12 years of age. No Toy guns\, knives\, or dangerous items.
X-ALT-DESC;FMTTYPE=text/html:Join us for a tree lighting\, caroling\, hayrides\, Santa Clause visit\, bonfires\, For the &quot\;Gift Toy Drive&quot\; sponsored by the Union County Sheriff&#39\;s Department\, bring an unwrapped gift for kids of 0 - 12 years of age. No Toy guns\, knives\, or dangerous items.
LOCATION:Vogel State Park U S Hwy 19/129S (11 miles south of Blairsville) Blairsville\, GA
UID:e.256.27832
SEQUENCE:3
DTSTAMP:20260421T074101Z
URL:https://members.visitblairsvillega.com/events/details/christmas-tree-lighting-at-vogel-state-park-12-12-2015-27832
END:VEVENT

END:VCALENDAR
