BEGIN:VCALENDAR
VERSION:2.0
PRODID:-//ChamberMaster//Event Calendar 2.0//EN
METHOD:PUBLISH
X-PUBLISHED-TTL:P3D
REFRESH-INTERVAL:P3D
CALSCALE:GREGORIAN
BEGIN:VEVENT
DTSTART:20141213T210000Z
DTEND:20141214T000000Z
X-MICROSOFT-CDO-ALLDAYEVENT:FALSE
SUMMARY:Christmas Tree Lighting at Vogel State Park
DESCRIPTION:Christmas Tree Lighting Saturday\, Dec 13\, 2014\n\nHandicapped Accessible\n\nJoin us for the 11th Annual Tree Lighting of a 35-foot live Blue Spruce.\n\nThere will be caroling\, hayrides\, Santa Claus visit\, bonfires\, hot chocolate\, cider\, and cookies. Also\, please bring an unwrapped gift for a child 0-12 years of age. No toy guns or knives. The Union County Sheriff's Office will give all of these gifts out through their Give-A-Gift Toy Drive. Please bring a blanket/chair for warmth and comfort. 706-745-2628. Location: Vogel State Park 405 Vogel State Park Road Blairsville\, GA 30512
X-ALT-DESC;FMTTYPE=text/html:Christmas Tree Lighting Saturday\, Dec 13\, 2014<br />\nHandicapped Accessible<br />\nJoin us for the 11th Annual Tree Lighting of a 35-foot live Blue Spruce.<br />\nThere will be caroling\, hayrides\, Santa Claus visit\, bonfires\, hot chocolate\, cider\, and cookies. Also\, please bring an unwrapped gift for a child 0-12 years of age. No toy guns or knives. The Union County Sheriff&#39\;s Office will give all of these gifts out through their Give-A-Gift Toy Drive. Please bring a blanket/chair for warmth and comfort. 706-745-2628. Location: Vogel State Park 405 Vogel State Park Road Blairsville\, GA 30512
LOCATION:Vogel State Park 405 Vogel State Park Road (11 miles south of Blairsville on Hwy 19/129S) Blairsville\, GA 30512
UID:e.256.21927
SEQUENCE:3
DTSTAMP:20260424T020143Z
URL:https://members.visitblairsvillega.com/events/details/christmas-tree-lighting-at-vogel-state-park-12-13-2014-21927
END:VEVENT

END:VCALENDAR
