BEGIN:VCALENDAR
VERSION:2.0
PRODID:-//ChamberMaster//Event Calendar 2.0//EN
METHOD:PUBLISH
X-PUBLISHED-TTL:P3D
REFRESH-INTERVAL:P3D
CALSCALE:GREGORIAN
BEGIN:VEVENT
DTSTART:20171223T003000Z
DTEND:20171223T023000Z
X-MICROSOFT-CDO-ALLDAYEVENT:FALSE
SUMMARY:Christmas With the Annie Moses Band
DESCRIPTION:The Annie Moses Band has been inspiring and entertaining audiences for over a decade\, bringing their distinctive style of music across the nation and around the world. A captivating blend of folk and classical\, the Annie Moses Band is a talented ensemble of songwriters\, singers\, and musicians\, combining technical skill with exhilarating showmanship.The Band's innovative sound has delighted audiences around the world - in record breaking numbers of airings on PBS and on stages as diverse as Carnegie Hall and the Grand Ole Opry. The members of the Band are also family. Veteran composer\, Bill Wolaver\, weaves musical styles together into cinematic arrangements while the virtuosic siblings bring Juilliard-honed chops to Nashville-styled music-making. The Annie Moses Band combines the best of beloved genres in a style that unifies audiences\, young and old\, classical connoisseurs and roots enthusiasts\, jazz aficionados and bluegrass buffs. And now\, the Annie Moses Band invites you to come celebrate Christmas as they create an exciting and inspirational concert full of traditional and sacred holiday favorites.
X-ALT-DESC;FMTTYPE=text/html:The Annie Moses Band has been inspiring and entertaining audiences for over a decade\, bringing their distinctive style of music across the nation and around the world. A captivating blend of folk and classical\, the Annie Moses Band is a talented ensemble of songwriters\, singers\, and musicians\, combining technical skill with exhilarating showmanship.The Band&#39\;s innovative sound has delighted audiences around the world - in record breaking numbers of airings on PBS and on stages as diverse as Carnegie Hall and the Grand Ole Opry. The members of the Band are also family. Veteran composer\, Bill Wolaver\, weaves musical styles together into cinematic arrangements while the virtuosic siblings bring Juilliard-honed chops to Nashville-styled music-making. The Annie Moses Band combines the best of beloved genres in a style that unifies audiences\, young and old\, classical connoisseurs and roots enthusiasts\, jazz aficionados and bluegrass buffs. And now\, the Annie Moses Band invites you to come celebrate Christmas as they create an exciting and inspirational concert full of traditional and sacred holiday favorites.
LOCATION:Smoky Mountain Center for the Performing Arts 1028 Georgia Road Franklin\, NC 28734
UID:e.256.75376
SEQUENCE:3
DTSTAMP:20260419T121317Z
URL:https://members.visitblairsvillega.com/events/details/christmas-with-the-annie-moses-band-75376
END:VEVENT

END:VCALENDAR
