BEGIN:VCALENDAR
VERSION:2.0
PRODID:-//ChamberMaster//Event Calendar 2.0//EN
METHOD:PUBLISH
X-PUBLISHED-TTL:P3D
REFRESH-INTERVAL:P3D
CALSCALE:GREGORIAN
BEGIN:VEVENT
DTSTART:20161204T003000Z
DTEND:20161204T023000Z
X-MICROSOFT-CDO-ALLDAYEVENT:FALSE
SUMMARY:Christmas with the Celts
DESCRIPTION:The Celts have been performing around the world for over 15 years and are made up of Irish born and Irish-American musicians. Their spectacular Christmas show is a blend of ancient traditional Irish and Scottish Christmas Carols mixed with American Christmas favorites but performed with Irish instrumentation such as uilleann pipes\, whistles\, bodhran\, fiddle and more. Featuring 6 musicians\, plus Irish dancing and narration of Christ's birth told in the Scottish dialect by Laura McGhee from Dundee\, Scotland. Christmas with the Celts is a celebration of traditional and sacred favorites for the entire family.
X-ALT-DESC;FMTTYPE=text/html:The Celts have been performing around the world for over 15 years and are made up of Irish born and Irish-American musicians. Their spectacular Christmas show is a blend of ancient traditional Irish and Scottish Christmas Carols mixed with American Christmas favorites but performed with Irish instrumentation such as uilleann pipes\, whistles\, bodhran\, fiddle and more. Featuring 6 musicians\, plus Irish dancing and narration of Christ&#39\;s birth told in the Scottish dialect by Laura McGhee from Dundee\, Scotland. Christmas with the Celts is a celebration of traditional and sacred favorites for the entire family.
LOCATION:Smoky Mountain Center for the Performing Arts 1028 Georgia Road Franklin\, NC 28734
UID:e.256.59626
SEQUENCE:3
DTSTAMP:20260420T093528Z
URL:https://members.visitblairsvillega.com/events/details/christmas-with-the-celts-59626
END:VEVENT

END:VCALENDAR
