BEGIN:VCALENDAR
VERSION:2.0
PRODID:-//ChamberMaster//Event Calendar 2.0//EN
METHOD:PUBLISH
X-PUBLISHED-TTL:P3D
REFRESH-INTERVAL:P3D
CALSCALE:GREGORIAN
BEGIN:VEVENT
DTSTART:20151213T003000Z
DTEND:20151213T033000Z
X-MICROSOFT-CDO-ALLDAYEVENT:FALSE
SUMMARY:Christmas with The Lettermen
DESCRIPTION:This Christmas\, enjoy the harmonies and sounds of The Lettermen with your friends and family. With 18 Gold Albums and scores of top singles\, including their first hit "The Way You Look Tonight\," The Lettermen's popularity has endured the test of time celebrating over 100\,000 sold-out performances. Look forward to many of their hits\, including "Put Your Head On My Shoulder" and "I Only Have Eyes for You" as well as traditional Christmas favorites. The Lettermen have been creating musical memories for 50 years and will help you make a memory of your own this Christmas.
X-ALT-DESC;FMTTYPE=text/html:This Christmas\, enjoy the harmonies and sounds of The Lettermen with your friends and family. With 18 Gold Albums and scores of top singles\, including their first hit &quot\;The Way You Look Tonight\,&quot\; The Lettermen&#39\;s popularity has endured the test of time celebrating over 100\,000 sold-out performances. Look forward to many of their hits\, including &quot\;Put Your Head On My Shoulder&quot\; and &quot\;I Only Have Eyes for You&quot\; as well as traditional Christmas favorites. The Lettermen have been creating musical memories for 50 years and will help you make a memory of your own this Christmas.
LOCATION:Smoky Mountain Center for the Performing Arts 1028 Georgia Road Franklin\, NC 28734
UID:e.256.41408
SEQUENCE:3
DTSTAMP:20260421T074324Z
URL:https://members.visitblairsvillega.com/events/details/christmas-with-the-lettermen-12-12-2015-41408
END:VEVENT

END:VCALENDAR
