BEGIN:VCALENDAR
VERSION:2.0
PRODID:-//ChamberMaster//Event Calendar 2.0//EN
METHOD:PUBLISH
X-PUBLISHED-TTL:P3D
REFRESH-INTERVAL:P3D
CALSCALE:GREGORIAN
BEGIN:VEVENT
DTSTART:20160505T213000Z
DTEND:20160506T010000Z
X-MICROSOFT-CDO-ALLDAYEVENT:FALSE
SUMMARY:Cinco de Mayo
DESCRIPTION:Tri-State Business Women presents their first ever "Cinco de Mayo" -- an evening of dinner\, entertainment\, and prizes -- all to raise funds for local charities. \n\n        Sponsorship & Food by Amazing Grace Catering & Events\n\nMenu includes Beef Tacos\, Spanish Rice\, Refried Beans\, Dessert & Beverage\n\n        Music sponsored by Mark Siekmann with Home Werks
X-ALT-DESC;FMTTYPE=text/html:<span style="font-family: comic sans ms\;">Tri-State Business Women presents their first ever &quot\;Cinco de Mayo&quot\; -- an evening of dinner\, entertainment\, and prizes -- all to raise funds for local charities.&nbsp\;<br />\n&nbsp\;&nbsp\;&nbsp\;&nbsp\;&nbsp\;&nbsp\;&nbsp\;&nbsp\;<strong>Sponsorship &amp\; Food by Amazing Grace Catering &amp\; Events</strong><br />\nMenu includes Beef Tacos\, Spanish Rice\, Refried Beans\, Dessert &amp\; Beverage</span><br />\n&nbsp\;&nbsp\;&nbsp\;&nbsp\;&nbsp\;&nbsp\;&nbsp\;&nbsp\;<strong><span style="font-family: comic sans ms\;">Music sponsored by Mark Siekmann with Home Werks</span></strong>
LOCATION:Union County Community Center 129 Union County Recreation Rd Blairsville\, GA 30512
UID:e.256.50569
SEQUENCE:3
DTSTAMP:20260420T222316Z
URL:https://members.visitblairsvillega.com/events/details/cinco-de-mayo-05-05-2016-50569
END:VEVENT

END:VCALENDAR
