BEGIN:VCALENDAR
VERSION:2.0
PRODID:-//ChamberMaster//Event Calendar 2.0//EN
METHOD:PUBLISH
X-PUBLISHED-TTL:P3D
REFRESH-INTERVAL:P3D
CALSCALE:GREGORIAN
BEGIN:VEVENT
DTSTART:20260516T223000Z
DTEND:20260517T010000Z
X-MICROSOFT-CDO-ALLDAYEVENT:FALSE
SUMMARY:CIVIC CENTER COMMUNITY LINE DANCE
DESCRIPTION:THERE WILL BE OPEN DANCE FROM 6:00   6:30. AN EVENING OF FUN\, MUSIC and DANCE. Admission: $5.00 at the door. ***There will be line dance instruction all night long starting at 6:30.*** Join in and learn to line dance or bring your honey and do your own "thing" to some great\, good ole music. We have no "theme" going on this month\, so all dances will be done to the original choreographed music. All of our teaches are not all strictly "country". We will have a great assortment of music styles to put a smile on everyone's face. All music is conducive to freestyle dance\, so everyone is invited to get on the floor. You are welcome to bring your own food and (non-alcoholic) drinks for those times when you are ready to rest your feet !! Still so many questions?? Email/text me: Rita at vckids2001@yahoo.com or 561-635-9090. Music licensing through the National Fast Dancers Association
X-ALT-DESC;FMTTYPE=text/html:THERE WILL BE OPEN DANCE FROM 6:00 &ndash\; 6:30. AN EVENING OF FUN\, MUSIC and DANCE. Admission: $5.00 at the door. ***There will be line dance instruction all night long starting at 6:30.*** Join in and learn to line dance or bring your honey and do your own &ldquo\;thing&rdquo\; to some great\, good ole music. We have no &ldquo\;theme&rdquo\; going on this month\, so all dances will be done to the original choreographed music. All of our teaches are not all strictly &ldquo\;country&rdquo\;. We will have a great assortment of music styles to put a smile on everyone&rsquo\;s face. All music is conducive to freestyle dance\, so everyone is invited to get on the floor. You are welcome to bring your own food and (non-alcoholic) drinks for those times when you are ready to rest your feet !! Still so many questions?? Email/text me: Rita at vckids2001@yahoo.com or 561-635-9090. Music licensing through the National Fast Dancers Association
LOCATION:165 Wellborn St.\, Blairsville\, GA
UID:e.256.143433
SEQUENCE:3
DTSTAMP:20260420T180800Z
URL:https://members.visitblairsvillega.com/events/details/civic-center-community-line-dance-05-16-2026-143433
END:VEVENT

END:VCALENDAR
