BEGIN:VCALENDAR
VERSION:2.0
PRODID:-//ChamberMaster//Event Calendar 2.0//EN
METHOD:PUBLISH
X-PUBLISHED-TTL:P3D
REFRESH-INTERVAL:P3D
CALSCALE:GREGORIAN
BEGIN:VEVENT
DTSTART:20150516T130000Z
DTEND:20150516T160000Z
X-MICROSOFT-CDO-ALLDAYEVENT:FALSE
SUMMARY:Civilian Conservation Corps Workday and Open House
DESCRIPTION:The Georgia Appalachian Trail Club will be doing trail work similar to what the CCC boys would have done in the 1930's. After working throughout the morning\, enjoy an open house at the CCC museum.
X-ALT-DESC;FMTTYPE=text/html:The Georgia Appalachian Trail Club will be doing trail work similar to what the CCC boys would have done in the 1930&#39\;s. After working throughout the morning\, enjoy an open house at the CCC museum.
LOCATION:Vogel Stat Park
UID:e.256.38088
SEQUENCE:3
DTSTAMP:20260423T200528Z
URL:https://members.visitblairsvillega.com/events/details/civilian-conservation-corps-workday-and-open-house-05-16-2015-38088
END:VEVENT

END:VCALENDAR
