BEGIN:VCALENDAR
VERSION:2.0
PRODID:-//ChamberMaster//Event Calendar 2.0//EN
METHOD:PUBLISH
X-PUBLISHED-TTL:P3D
REFRESH-INTERVAL:P3D
CALSCALE:GREGORIAN
BEGIN:VEVENT
DTSTART:20171214T140000Z
DTEND:20171214T170000Z
X-MICROSOFT-CDO-ALLDAYEVENT:FALSE
SUMMARY:Civilian Response to an Active Shooter
DESCRIPTION:Training on a timely topic. John G. Henson will present on what to do if an active shooter begins a rampage.
X-ALT-DESC;FMTTYPE=text/html:Training on a timely topic. John G. Henson will present on what to do if an active shooter begins a rampage.
LOCATION:North Georgia Technical College
UID:e.256.76808
SEQUENCE:3
DTSTAMP:20260419T121223Z
URL:https://members.visitblairsvillega.com/events/details/civilian-response-to-an-active-shooter-76808
END:VEVENT

END:VCALENDAR
