BEGIN:VCALENDAR
VERSION:2.0
PRODID:-//ChamberMaster//Event Calendar 2.0//EN
METHOD:PUBLISH
X-PUBLISHED-TTL:P3D
REFRESH-INTERVAL:P3D
CALSCALE:GREGORIAN
BEGIN:VEVENT
DTSTART:20170407T230000Z
DTEND:20170408T023000Z
X-MICROSOFT-CDO-ALLDAYEVENT:FALSE
SUMMARY:Clint Black in Concert
DESCRIPTION:Clint Black will take the stage in concert in the Anderson Music Hall at the Georgia Mountain Fairgrounds.
X-ALT-DESC;FMTTYPE=text/html:Clint Black will take the stage in concert in the Anderson Music Hall at the Georgia Mountain Fairgrounds.
LOCATION:Georgia Mountain Fairgrounds 1311 Music Hall Road Hiawassee\, GA
UID:e.256.63239
SEQUENCE:3
DTSTAMP:20260420T023902Z
URL:https://members.visitblairsvillega.com/events/details/clint-black-in-concert-63239
END:VEVENT

END:VCALENDAR
