BEGIN:VCALENDAR
VERSION:2.0
PRODID:-//ChamberMaster//Event Calendar 2.0//EN
METHOD:PUBLISH
X-PUBLISHED-TTL:P3D
REFRESH-INTERVAL:P3D
CALSCALE:GREGORIAN
BEGIN:VEVENT
DTSTART:20170407T220000Z
DTEND:20170408T020000Z
X-MICROSOFT-CDO-ALLDAYEVENT:FALSE
SUMMARY:Clint Black Live at Anderson Music Hall
DESCRIPTION:Clint Black is back. The multi-million selling country mega-star is releasing On Purpose\, his first full-length album of new songs in a decade and he's doing it on his own terms. Black's On Purpose compiles a strikingly diverse group of his self-produced songs. His ballads "Only One Way to Live\," "Stay Gone\," "Breathing Air" and "The Last Day" have never cut deeper\, while his spirited "Beer" and "Better and Worse" are among the most upbeat songs he has ever crafted. "Time For That\," "Doing It Now For Love" and "Summertime Song" are catchy examples of how groove-soaked his music can be.
X-ALT-DESC;FMTTYPE=text/html:Clint Black is back. The multi-million selling country mega-star is releasing On Purpose\, his first full-length album of new songs in a decade and he&rsquo\;s doing it on his own terms. Black&rsquo\;s On Purpose compiles a strikingly diverse group of his self-produced songs. His ballads &ldquo\;Only One Way to Live\,&rdquo\; &ldquo\;Stay Gone\,&rdquo\; &ldquo\;Breathing Air&rdquo\; and &ldquo\;The Last Day&rdquo\; have never cut deeper\, while his spirited &ldquo\;Beer&rdquo\; and &ldquo\;Better and Worse&rdquo\; are among the most upbeat songs he has ever crafted. &ldquo\;Time For That\,&rdquo\; &ldquo\;Doing It Now For Love&rdquo\; and &ldquo\;Summertime Song&rdquo\; are catchy examples of how groove-soaked his music can be.
LOCATION:Anderson Music Hall 131 South Main Street Hiawassee\, GA 30546
UID:e.256.69063
SEQUENCE:3
DTSTAMP:20260420T024223Z
URL:https://members.visitblairsvillega.com/events/details/clint-black-live-at-anderson-music-hall-69063
END:VEVENT

END:VCALENDAR
